BEGIN:VCALENDAR
VERSION:2.0
PRODID:-//eventon.com NONSGML v1.0//EN
CALSCALE:GREGORIAN
METHOD:PUBLISH
BEGIN:VEVENT
UID:69e7482396ed5
DTSTAMP:20260421T094923Z
DTSTART:20251211T000000Z
DTEND:20251211T020000Z
LOCATION:The Tucson Gallery 245 E Congress Street\,  Suite 101\,  Tucson AZ 85701
SUMMARY:An Evening with Tucson’s Mural Royalty — Ignacio Garcia
DESCRIPTION:🎨 An Evening with Tucson’s Mural Royalty — Ignacio Garci
 a📅 Wednesday\,  December 10 | 5:00–7:00 PM📍 The Tucson Gallery | 24
 5 E Congress St\,  Suite 101 ✨ Join us for a special evening with Ignacio
  Garcia\,  part of Tucson’s mural royalty and one of the city’s most ce
 lebrated artists. Ignacio[..]\nhttps://thetucsongallery.com/events/an-eveni
 ng-with-tucsons-mural-royalty-ignacio-garcia/
URL:https://thetucsongallery.com/events/an-evening-with-tucsons-mural-royalty-ignacio-garcia/
END:VEVENT
END:VCALENDAR