BEGIN:VCALENDAR
VERSION:2.0
PRODID:-//eventon.com NONSGML v1.0//EN
CALSCALE:GREGORIAN
METHOD:PUBLISH
BEGIN:VEVENT
UID:69e7484ddf957
DTSTAMP:20260421T095005Z
DTSTART:20251116T213000Z
DTEND:20251116T233000Z
LOCATION:The Tucson Gallery 245 E Congress Street\,  Suite 101\,  Tucson AZ 85701
SUMMARY:Intro to Intuitive Painting with Acrylics
DESCRIPTION: Discover the Joy of Painting with Angela Soliz at The Tucson 
 Gallery! Unplug\,  unwind\,  and let your creativity flow! In this upbeat\,
   hands-on acrylic painting workshop\, .Angela Soliz will guide you step-by
 -step through the art of color\,  texture\,  and self-expression.Whether yo
 u&#8217;re brand new or rediscovering your artistic spark\,  you’ll gain 
 the[..]\nhttps://thetucsongallery.com/events/intro-to-intuitive-painting-wi
 th-acrylics/
URL:https://thetucsongallery.com/events/intro-to-intuitive-painting-with-acrylics/
END:VEVENT
END:VCALENDAR