BEGIN:VCALENDAR
VERSION:2.0
PRODID:-//eventon.com NONSGML v1.0//EN
CALSCALE:GREGORIAN
METHOD:PUBLISH
BEGIN:VEVENT
UID:69e757b3261aa
DTSTAMP:20260421T105547Z
DTSTART:20251122T230000Z
DTEND:20251123T020000Z
LOCATION:The Tucson Gallery 245 E Congress Street\,  Suite 101\,  Tucson AZ 85701
SUMMARY:Sip & Paint with Victor Navarro
DESCRIPTION:What to Expect Bring your after-work energy and let it melt awa
 y as Victor Navarro guides you through creating your own canvas. We’ll wo
 rk inside the gallery\,  with our big street-facing windows creating that l
 ively “window studio” vibe\,  so it’s fun for participants and passer
 s-by alike. No experience needed; you’ll[..]\nhttps://thetucsongallery.co
 m/events/sip-paint-with-victor-navarro/
URL:https://thetucsongallery.com/events/sip-paint-with-victor-navarro/
END:VEVENT
END:VCALENDAR