BEGIN:VCALENDAR
VERSION:2.0
PRODID:-//eventon.com NONSGML v1.0//EN
CALSCALE:GREGORIAN
METHOD:PUBLISH
BEGIN:VEVENT
UID:69e55713b156b
DTSTAMP:20260419T222835Z
DTSTART:20241207T180000Z
DTEND:20241208T040000Z
LOCATION:The Tucson Gallery 245 E Congress Street\,  Suite 101\,  Tucson AZ 85701
SUMMARY:Celebrate Proper Shops' Anniversary with Tucson Gallery!
DESCRIPTION:Come celebrate the anniversary of Proper Shops at Tucson Galler
 y! On Saturday\,  December 7\,  from 11 AM to 8 PM\,  the gallery will be f
 illed with local art\,  live music\,  and delicious small bites\,  creating
  a festive atmosphere you won’t want to miss. Live Music: Enjoy live perf
 ormances in our[..]\nhttps://thetucsongallery.com/events/celebrate-proper-s
 hops-anniversary-with-tucson-gallery/
URL:https://thetucsongallery.com/events/celebrate-proper-shops-anniversary-with-tucson-gallery/
END:VEVENT
END:VCALENDAR